BEGIN:VCALENDAR
VERSION:2.0
PRODID:-//Klosterladen Marienfeld - ECPv6.15.14//NONSGML v1.0//EN
CALSCALE:GREGORIAN
METHOD:PUBLISH
X-WR-CALNAME:Klosterladen Marienfeld
X-ORIGINAL-URL:https://klosterladen-marienfeld.de
X-WR-CALDESC:Veranstaltungen für Klosterladen Marienfeld
REFRESH-INTERVAL;VALUE=DURATION:PT1H
X-Robots-Tag:noindex
X-PUBLISHED-TTL:PT1H
BEGIN:VTIMEZONE
TZID:Europe/Berlin
BEGIN:DAYLIGHT
TZOFFSETFROM:+0100
TZOFFSETTO:+0200
TZNAME:CEST
DTSTART:20240331T010000
END:DAYLIGHT
BEGIN:STANDARD
TZOFFSETFROM:+0200
TZOFFSETTO:+0100
TZNAME:CET
DTSTART:20241027T010000
END:STANDARD
BEGIN:DAYLIGHT
TZOFFSETFROM:+0100
TZOFFSETTO:+0200
TZNAME:CEST
DTSTART:20250330T010000
END:DAYLIGHT
BEGIN:STANDARD
TZOFFSETFROM:+0200
TZOFFSETTO:+0100
TZNAME:CET
DTSTART:20251026T010000
END:STANDARD
BEGIN:DAYLIGHT
TZOFFSETFROM:+0100
TZOFFSETTO:+0200
TZNAME:CEST
DTSTART:20260329T010000
END:DAYLIGHT
BEGIN:STANDARD
TZOFFSETFROM:+0200
TZOFFSETTO:+0100
TZNAME:CET
DTSTART:20261025T010000
END:STANDARD
END:VTIMEZONE
BEGIN:VEVENT
DTSTART;TZID=Europe/Berlin:20250404T190000
DTEND;TZID=Europe/Berlin:20250404T210000
DTSTAMP:20260423T121423
CREATED:20250306T204645Z
LAST-MODIFIED:20250306T205119Z
UID:6526-1743793200-1743800400@klosterladen-marienfeld.de
SUMMARY:Buchpräsentation
DESCRIPTION:Wenn geliebte Tiere sterben – Erfahrungen einer Tierärztin\nDr. med. vet. Vera Müller-Skuplik\nNiemand denkt gern daran\, dass die Lebensspanne des geliebten Hundes oder der eigenwilligen Katze kürzer ist als die eines Menschen. Was ist ethisch vertretbar\, wenn das Tier nicht mehr kann? Ein Tier sterben zu lassen\, ist schwer. Die Tierärztin nimmt das ernst – aber erzählt auch von den innigen und manchmal kuriosen Momenten im Miteinander von Mensch und Tier. \nVera Müller-Skuplik studierte Tiermedizin an der Hochschule Hannover. Sie praktiziert seit über 20 Jahren als Tierärztin\, absolviert Nacht- und Notdienste des tierärztlichen Online-Beratungsdienstes „Pfotendoctor“ und hält populärwissenschaftliche Vorträge zu allen Themen rund um Tierhaltung und -medizin. Zur Zeit wohnt sie in der Nähe von Münster. Bis Sommer 2024 lebte sie mit ihrer Familie und dem Kater Zwingli auf dem Klosterhof in Marienfeld. \nEintritt: 9 € / 5 € ermäßigt\nals Spende für das Projekt des Oikos Fördervereins Kloster Marienfeld e.V. „Garten der Begegnung“ hinter dem Klosterladen
URL:https://klosterladen-marienfeld.de/event/buchpraesentation/
LOCATION:Bürgerhaus\, Klosterstr. 20\, 33428 Marienfeld
CATEGORIES:Buchvorstellungen
ATTACH;FMTTYPE=image/jpeg:https://klosterladen-marienfeld.de/wp-content/uploads/2025/03/9783423352543-1-1.jpg
END:VEVENT
END:VCALENDAR