BEGIN:VCALENDAR
VERSION:2.0
PRODID:-//Klosterladen Marienfeld - ECPv6.15.14//NONSGML v1.0//EN
CALSCALE:GREGORIAN
METHOD:PUBLISH
X-WR-CALNAME:Klosterladen Marienfeld
X-ORIGINAL-URL:https://klosterladen-marienfeld.de
X-WR-CALDESC:Veranstaltungen für Klosterladen Marienfeld
REFRESH-INTERVAL;VALUE=DURATION:PT1H
X-Robots-Tag:noindex
X-PUBLISHED-TTL:PT1H
BEGIN:VTIMEZONE
TZID:Europe/Berlin
BEGIN:DAYLIGHT
TZOFFSETFROM:+0100
TZOFFSETTO:+0200
TZNAME:CEST
DTSTART:20240331T010000
END:DAYLIGHT
BEGIN:STANDARD
TZOFFSETFROM:+0200
TZOFFSETTO:+0100
TZNAME:CET
DTSTART:20241027T010000
END:STANDARD
BEGIN:DAYLIGHT
TZOFFSETFROM:+0100
TZOFFSETTO:+0200
TZNAME:CEST
DTSTART:20250330T010000
END:DAYLIGHT
BEGIN:STANDARD
TZOFFSETFROM:+0200
TZOFFSETTO:+0100
TZNAME:CET
DTSTART:20251026T010000
END:STANDARD
BEGIN:DAYLIGHT
TZOFFSETFROM:+0100
TZOFFSETTO:+0200
TZNAME:CEST
DTSTART:20260329T010000
END:DAYLIGHT
BEGIN:STANDARD
TZOFFSETFROM:+0200
TZOFFSETTO:+0100
TZNAME:CET
DTSTART:20261025T010000
END:STANDARD
END:VTIMEZONE
BEGIN:VEVENT
DTSTART;TZID=Europe/Berlin:20250817T170000
DTEND;TZID=Europe/Berlin:20250817T180000
DTSTAMP:20260423T024933
CREATED:20250807T153337Z
LAST-MODIFIED:20250807T153610Z
UID:6643-1755450000-1755453600@klosterladen-marienfeld.de
SUMMARY:Afrikanische Klänge mit dem Chor Sparkling
DESCRIPTION:Unter der musikalischen Leitung von Leon Hansen wird der Chor Sparkling im „Garten der Begegnung“ hinter dem Klosterladen mit afrikanischen Gesängen den Kontinent musikalisch präsentieren. \nSeit 2016 probt der Chor\, der sich 1999 als Projektchor während einer Firmvorbereitung in der Aegidius-Gemeinde in Rheda-Wiedenbrück gegründet hat\, mit Leon Hansen (Tara) Lieder aus verschiedenen afrikanischen Ländern – überwiegend aus Namibia. Neben Tara\, dem Vocalcoach für afrikanische Lieder\, übt die Gruppe neue englische und deutsche Songs mit der Chorleiterin Ricarda Junghardt ein. \nNamibia ist ein Sehnsuchtsland für viele Reisende und auch für die Gruppe Sparkling aus Rheda-Wiedenbrück. Die Gruppe verzichtet auf eine Gage und bittet um Spenden für den Namibia Fonds des Weltladens Harsewinkel\, der die Aus- und Weiterbildung junger Menschen in Namibia fördert.
URL:https://klosterladen-marienfeld.de/event/afrikanische-klaenge-mit-dem-chor-sparkling/
LOCATION:Garten der Begegnung hinter dem Klosterladen
CATEGORIES:Konzerte
ATTACH;FMTTYPE=image/jpeg:https://klosterladen-marienfeld.de/wp-content/uploads/2025/08/25-08-Sparkling-1-2-scaled.jpg
END:VEVENT
END:VCALENDAR