BEGIN:VCALENDAR
VERSION:2.0
PRODID:-//Klosterladen Marienfeld - ECPv6.15.14//NONSGML v1.0//EN
CALSCALE:GREGORIAN
METHOD:PUBLISH
X-ORIGINAL-URL:https://klosterladen-marienfeld.de
X-WR-CALDESC:Veranstaltungen für Klosterladen Marienfeld
REFRESH-INTERVAL;VALUE=DURATION:PT1H
X-Robots-Tag:noindex
X-PUBLISHED-TTL:PT1H
BEGIN:VTIMEZONE
TZID:Europe/Berlin
BEGIN:DAYLIGHT
TZOFFSETFROM:+0100
TZOFFSETTO:+0200
TZNAME:CEST
DTSTART:20240331T010000
END:DAYLIGHT
BEGIN:STANDARD
TZOFFSETFROM:+0200
TZOFFSETTO:+0100
TZNAME:CET
DTSTART:20241027T010000
END:STANDARD
BEGIN:DAYLIGHT
TZOFFSETFROM:+0100
TZOFFSETTO:+0200
TZNAME:CEST
DTSTART:20250330T010000
END:DAYLIGHT
BEGIN:STANDARD
TZOFFSETFROM:+0200
TZOFFSETTO:+0100
TZNAME:CET
DTSTART:20251026T010000
END:STANDARD
BEGIN:DAYLIGHT
TZOFFSETFROM:+0100
TZOFFSETTO:+0200
TZNAME:CEST
DTSTART:20260329T010000
END:DAYLIGHT
BEGIN:STANDARD
TZOFFSETFROM:+0200
TZOFFSETTO:+0100
TZNAME:CET
DTSTART:20261025T010000
END:STANDARD
END:VTIMEZONE
BEGIN:VEVENT
DTSTART;TZID=Europe/Berlin:20250311T140000
DTEND;TZID=Europe/Berlin:20250503T180000
DTSTAMP:20260423T133221
CREATED:20250306T205532Z
LAST-MODIFIED:20250306T205532Z
UID:6531-1741701600-1746295200@klosterladen-marienfeld.de
SUMMARY:Bilderausstellung "Auszeiten"
DESCRIPTION:AUSZEITEN\nBilderausstellung 9. März bis 4. Mai\nBirgit Manefeld-Kühle \nBirgit Manefeld-Kühle (Jahrgang 1961) lebt seit 1994 in Clarholz. Kreativ war sie schon immer – aber mit dem Malen hat die gelernte Erzieherin erst 2001 begonnen. Das Malen ist für sie eine Auszeit vom Alltag. Viele der Motive sind mit persönlichen Erlebnissen verbunden und am liebsten arbeitet sie mit Acrylfarben oder Pastellkreide. Die Ausstellung zeigt einen Querschnitt ihrer Arbeiten. \nWährend der Öffnungszeiten des Klosterladens kann die Bilderausstellung besichtigt werden:\ndienstags bis samstags: 14.00 bis 18.00 Uhr sowie nach Terminabsprachen \nBirgit Manefeld-Kühle ist an folgenden Terminen jeweils ab 15 Uhr anwesend: 12.3.|19.3.|29.3.|5.4.|13.4.|21.4.|26.4.\nFinissage: 4.5. 17.00 Uhr\nVom Erlös der verkauften Bilder spendet die Künstlerin einen Teil für den Garten der Begegnung des Oikos Förderverein Kloster Marienfeld e.V.
URL:https://klosterladen-marienfeld.de/event/bilderausstellung-auszeiten/
LOCATION:Klosterladen\, Klosterhof 12\, 33428 Marienfeld
CATEGORIES:Ausstellungen
ATTACH;FMTTYPE=image/jpeg:https://klosterladen-marienfeld.de/wp-content/uploads/2025/02/25-02-Titel-Auszeiten-klein.jpg
END:VEVENT
END:VCALENDAR