BEGIN:VCALENDAR
VERSION:2.0
PRODID:-//Klosterladen Marienfeld - ECPv6.15.14//NONSGML v1.0//EN
CALSCALE:GREGORIAN
METHOD:PUBLISH
X-WR-CALNAME:Klosterladen Marienfeld
X-ORIGINAL-URL:https://klosterladen-marienfeld.de
X-WR-CALDESC:Veranstaltungen für Klosterladen Marienfeld
REFRESH-INTERVAL;VALUE=DURATION:PT1H
X-Robots-Tag:noindex
X-PUBLISHED-TTL:PT1H
BEGIN:VTIMEZONE
TZID:Europe/Berlin
BEGIN:DAYLIGHT
TZOFFSETFROM:+0100
TZOFFSETTO:+0200
TZNAME:CEST
DTSTART:20240331T010000
END:DAYLIGHT
BEGIN:STANDARD
TZOFFSETFROM:+0200
TZOFFSETTO:+0100
TZNAME:CET
DTSTART:20241027T010000
END:STANDARD
BEGIN:DAYLIGHT
TZOFFSETFROM:+0100
TZOFFSETTO:+0200
TZNAME:CEST
DTSTART:20250330T010000
END:DAYLIGHT
BEGIN:STANDARD
TZOFFSETFROM:+0200
TZOFFSETTO:+0100
TZNAME:CET
DTSTART:20251026T010000
END:STANDARD
BEGIN:DAYLIGHT
TZOFFSETFROM:+0100
TZOFFSETTO:+0200
TZNAME:CEST
DTSTART:20260329T010000
END:DAYLIGHT
BEGIN:STANDARD
TZOFFSETFROM:+0200
TZOFFSETTO:+0100
TZNAME:CET
DTSTART:20261025T010000
END:STANDARD
END:VTIMEZONE
BEGIN:VEVENT
DTSTART;TZID=Europe/Berlin:20251201T163000
DTEND;TZID=Europe/Berlin:20251201T180000
DTSTAMP:20260423T111214
CREATED:20251118T165738Z
LAST-MODIFIED:20251118T165738Z
UID:6720-1764606600-1764612000@klosterladen-marienfeld.de
SUMMARY:Kinderbuchlesung "Josy"
DESCRIPTION:Josy – das Geheimnis der Stadtbibliothek\nKinderbuchlesung mit interaktiven Rätseln mit der Autorin Linda Adolf \nEin spannender Kinderroman über Freundschaft\, Verlust und den Mut\, seinen eigenen Weg zu gehen. Die aus Oelde stammende Kinderbuchautorin Linda Adolf liest aus ihrem neuesten Roman vor. Die Veranstaltung ist für Kinder im Alter von 9 bis 13 Jahren geeignet sowie für Eltern und Großeltern\, die noch ein Buchgeschenk suchen. Weitere Informationen zum Buch unter Josy – Das Geheimnis der Stadtbibliothek – Kinderbuchfreunde \nDer Eintritt ist frei. Es wird aber um eine Spende für den „Garten der Begegnung“ gebeten.\nDa der Platz begrenzt ist\, bitten wir um vorherige Anmeldung an info@klosterladen-marienfeld.de oder telefonisch: 05247 92 79 60.
URL:https://klosterladen-marienfeld.de/event/kinderbuchlesung-josy/
LOCATION:Klosterladen\, Klosterhof 12\, 33428 Marienfeld
CATEGORIES:Buchvorstellungen
ATTACH;FMTTYPE=image/jpeg:https://klosterladen-marienfeld.de/wp-content/uploads/2025/11/Flyer-Kinderbuchlesung16_01.jpg
END:VEVENT
END:VCALENDAR