BEGIN:VCALENDAR
VERSION:2.0
PRODID:-//Klosterladen Marienfeld - ECPv6.15.14//NONSGML v1.0//EN
CALSCALE:GREGORIAN
METHOD:PUBLISH
X-WR-CALNAME:Klosterladen Marienfeld
X-ORIGINAL-URL:https://klosterladen-marienfeld.de
X-WR-CALDESC:Veranstaltungen für Klosterladen Marienfeld
REFRESH-INTERVAL;VALUE=DURATION:PT1H
X-Robots-Tag:noindex
X-PUBLISHED-TTL:PT1H
BEGIN:VTIMEZONE
TZID:Europe/Berlin
BEGIN:DAYLIGHT
TZOFFSETFROM:+0100
TZOFFSETTO:+0200
TZNAME:CEST
DTSTART:20240331T010000
END:DAYLIGHT
BEGIN:STANDARD
TZOFFSETFROM:+0200
TZOFFSETTO:+0100
TZNAME:CET
DTSTART:20241027T010000
END:STANDARD
BEGIN:DAYLIGHT
TZOFFSETFROM:+0100
TZOFFSETTO:+0200
TZNAME:CEST
DTSTART:20250330T010000
END:DAYLIGHT
BEGIN:STANDARD
TZOFFSETFROM:+0200
TZOFFSETTO:+0100
TZNAME:CET
DTSTART:20251026T010000
END:STANDARD
BEGIN:DAYLIGHT
TZOFFSETFROM:+0100
TZOFFSETTO:+0200
TZNAME:CEST
DTSTART:20260329T010000
END:DAYLIGHT
BEGIN:STANDARD
TZOFFSETFROM:+0200
TZOFFSETTO:+0100
TZNAME:CET
DTSTART:20261025T010000
END:STANDARD
END:VTIMEZONE
BEGIN:VEVENT
DTSTART;TZID=Europe/Berlin:20250312T153000
DTEND;TZID=Europe/Berlin:20250312T163000
DTSTAMP:20260423T110245
CREATED:20250208T175011Z
LAST-MODIFIED:20250306T205807Z
UID:6500-1741793400-1741797000@klosterladen-marienfeld.de
SUMMARY:Bilderbuchkino "Bist du der Frühling?"
DESCRIPTION:Birgit Manefeld-Kühle und Ulla Lory stellen das Bilderbuch „Bist du der Frühling?“ vor. Die Illustrationen werden an die Wand projiziert. Das etwa einstündige Programm beginnt um 15.30 Uhr und ist für Kinder ab 4 Jahren geeignet.\nDer Eintritt ist frei\, es wird aber um eine Spende für das Gartenprojekt des Oikos Fördervereins Kloster Marienfeld e.V. gebeten. \nDa der Platz begrenzt ist\, bitten wir um vorherige Anmeldung per Mail: info@klosterladen-marienfeld.de oder telefonisch (98 30 26) während der Öffnungszeiten des Klosterladens: dienstags bis samstags von 14 bis 18 Uhr.
URL:https://klosterladen-marienfeld.de/event/bilderbuchkino-bist-du-der-fruehling/
LOCATION:Refektorium der Klostergemeinschaft\, Klosterhof 13\, Marienfeld\, 33428\, Deutschland
CATEGORIES:Buchvorstellungen
ATTACH;FMTTYPE=image/jpeg:https://klosterladen-marienfeld.de/wp-content/uploads/2025/02/DSCN6469-scaled.jpg
END:VEVENT
END:VCALENDAR