BEGIN:VCALENDAR
VERSION:2.0
PRODID:-//Klosterladen Marienfeld - ECPv6.15.14//NONSGML v1.0//EN
CALSCALE:GREGORIAN
METHOD:PUBLISH
X-WR-CALNAME:Klosterladen Marienfeld
X-ORIGINAL-URL:https://klosterladen-marienfeld.de
X-WR-CALDESC:Veranstaltungen für Klosterladen Marienfeld
REFRESH-INTERVAL;VALUE=DURATION:PT1H
X-Robots-Tag:noindex
X-PUBLISHED-TTL:PT1H
BEGIN:VTIMEZONE
TZID:Europe/Berlin
BEGIN:DAYLIGHT
TZOFFSETFROM:+0100
TZOFFSETTO:+0200
TZNAME:CEST
DTSTART:20250330T010000
END:DAYLIGHT
BEGIN:STANDARD
TZOFFSETFROM:+0200
TZOFFSETTO:+0100
TZNAME:CET
DTSTART:20251026T010000
END:STANDARD
BEGIN:DAYLIGHT
TZOFFSETFROM:+0100
TZOFFSETTO:+0200
TZNAME:CEST
DTSTART:20260329T010000
END:DAYLIGHT
BEGIN:STANDARD
TZOFFSETFROM:+0200
TZOFFSETTO:+0100
TZNAME:CET
DTSTART:20261025T010000
END:STANDARD
BEGIN:DAYLIGHT
TZOFFSETFROM:+0100
TZOFFSETTO:+0200
TZNAME:CEST
DTSTART:20270328T010000
END:DAYLIGHT
BEGIN:STANDARD
TZOFFSETFROM:+0200
TZOFFSETTO:+0100
TZNAME:CET
DTSTART:20271031T010000
END:STANDARD
END:VTIMEZONE
BEGIN:VEVENT
DTSTART;TZID=Europe/Berlin:20260425T190000
DTEND;TZID=Europe/Berlin:20260425T210000
DTSTAMP:20260425T013243
CREATED:20260221T204502Z
LAST-MODIFIED:20260408T172401Z
UID:6833-1777143600-1777150800@klosterladen-marienfeld.de
SUMMARY:Wine & Book - Kartenvorverkauf im Klosterladen
DESCRIPTION:Weinprobe und Lesung\nWeinverkostung trifft Literatur: Schreibende des Autorentreffs Oelde lesen aus ihrer ersten gemeinsamen Anthologie – parallel in mehreren Räumen der Klostergemeinschaft. Die Gäste wechseln frei zwischen den Lesungen\, entdecken neue Stimmen und genießen ausgewählte Weine. \nDie Geschichten erzählen vom Leben in all seinen Facetten: mal leise\, mal humorvoll\, mal nachdenklich. Ein Abend zum Zuhören\, Probieren und Austauschen – stimmungsvoll\, abwechslungsreich und persönlich. \nEintritt: Weinverkostung und Lesung 15 Euro.\nDa der Platz begrenzt ist\, startet der Kartenverkauf ab Anfang April im Klosterladen. \nwww.autorentreff-oelde.de
URL:https://klosterladen-marienfeld.de/event/wine-book/
LOCATION:Klosterladen\, Klosterhof 12\, 33428 Marienfeld
CATEGORIES:Buchvorstellungen
ATTACH;FMTTYPE=image/jpeg:https://klosterladen-marienfeld.de/wp-content/uploads/2026/02/26-04-Wine-Book.jpg
END:VEVENT
END:VCALENDAR